BEGIN:VCALENDAR
VERSION:2.0
PRODID:-//Tukios.com/
BEGIN:VEVENT
UID:a3a42a80-6a90-4a12-8ed5-0fe8efca4a1c@www.tusseymosher.com
DTSTAMP:20260423T230109Z
DTSTART:20260429T150000Z
DTEND:20260429T160000Z
SUMMARY:Memorial Service
DESCRIPTION:
URL:https://www.tusseymosher.com/obituaries/betty-niles
LOCATION: 130 Main Street  Wellsboro PA 16901
GEO:41.746486;-77.304284
END:VEVENT
END:VCALENDAR